BEGIN:VCALENDAR
VERSION:2.0
PRODID:-//SWCAP - ECPv6.15.18//NONSGML v1.0//EN
CALSCALE:GREGORIAN
METHOD:PUBLISH
X-WR-CALNAME:SWCAP
X-ORIGINAL-URL:https://swcap.org
X-WR-CALDESC:Events for SWCAP
REFRESH-INTERVAL;VALUE=DURATION:PT1H
X-Robots-Tag:noindex
X-PUBLISHED-TTL:PT1H
BEGIN:VTIMEZONE
TZID:America/Chicago
BEGIN:DAYLIGHT
TZOFFSETFROM:-0600
TZOFFSETTO:-0500
TZNAME:CDT
DTSTART:20220313T080000
END:DAYLIGHT
BEGIN:STANDARD
TZOFFSETFROM:-0500
TZOFFSETTO:-0600
TZNAME:CST
DTSTART:20221106T070000
END:STANDARD
BEGIN:DAYLIGHT
TZOFFSETFROM:-0600
TZOFFSETTO:-0500
TZNAME:CDT
DTSTART:20230312T080000
END:DAYLIGHT
BEGIN:STANDARD
TZOFFSETFROM:-0500
TZOFFSETTO:-0600
TZNAME:CST
DTSTART:20231105T070000
END:STANDARD
BEGIN:DAYLIGHT
TZOFFSETFROM:-0600
TZOFFSETTO:-0500
TZNAME:CDT
DTSTART:20240310T080000
END:DAYLIGHT
BEGIN:STANDARD
TZOFFSETFROM:-0500
TZOFFSETTO:-0600
TZNAME:CST
DTSTART:20241103T070000
END:STANDARD
BEGIN:DAYLIGHT
TZOFFSETFROM:-0600
TZOFFSETTO:-0500
TZNAME:CDT
DTSTART:20250309T080000
END:DAYLIGHT
BEGIN:STANDARD
TZOFFSETFROM:-0500
TZOFFSETTO:-0600
TZNAME:CST
DTSTART:20251102T070000
END:STANDARD
END:VTIMEZONE
BEGIN:VEVENT
DTSTART;TZID=America/Chicago:20240521T160000
DTEND;TZID=America/Chicago:20240521T190000
DTSTAMP:20260422T003337
CREATED:20240404T155656Z
LAST-MODIFIED:20240404T155656Z
UID:3291-1716307200-1716318000@swcap.org
SUMMARY:safeTALK sponsored and hosted by The Richland Hospital
DESCRIPTION:At a safeTALK workshop\, you will learn how to prevent suicide by recognizing signs\, engaging someone\, and connecting them to an intervention resource for further support. Two skilled trainers will guide you through the course\, and a community resource person will be on hand to support your safety and comfort. \nLink to more safeTALK information: https://www.livingworks.net/safetalk \nPerks: There will be free snacks and beverages at the training.
URL:https://swcap.org/event/safetalk-sponsored-and-hosted-by-the-richland-hospital-2/
LOCATION:The Richland Hospital\, Inc.\, 333 East 2nd Street\, Richland Center\, WI\, 53581\, United States
CATEGORIES:FarmWell
ORGANIZER;CN="Shawn Monson%2C FarmWell Program Coordinator":MAILTO:s.monson@swcap.org
END:VEVENT
BEGIN:VEVENT
DTSTART;TZID=America/Chicago:20231010T160000
DTEND;TZID=America/Chicago:20231010T190000
DTSTAMP:20260422T003337
CREATED:20230911T165647Z
LAST-MODIFIED:20230911T165647Z
UID:3213-1696953600-1696964400@swcap.org
SUMMARY:safeTALK sponsored and hosted by The Richland Hospital
DESCRIPTION:At a safeTALK workshop\, you will learn how to prevent suicide by recognizing signs\, engaging someone\, and connecting them to an intervention resource for further support. Two skilled trainers will guide you through the course\, and a community resource person will be on hand to support your safety and comfort. \nLink to more safeTALK information: https://www.livingworks.net/safetalk \nPerks: There will be free snacks and beverages at the training.
URL:https://swcap.org/event/safetalk-sponsored-and-hosted-by-the-richland-hospital/
LOCATION:The Richland Hospital\, Inc.\, 333 East 2nd Street\, Richland Center\, WI\, 53581\, United States
CATEGORIES:FarmWell
ORGANIZER;CN="Shawn Monson%2C FarmWell Program Coordinator":MAILTO:s.monson@swcap.org
END:VEVENT
END:VCALENDAR