BEGIN:VCALENDAR
VERSION:2.0
PRODID:-//SWCAP - ECPv6.15.18//NONSGML v1.0//EN
CALSCALE:GREGORIAN
METHOD:PUBLISH
X-ORIGINAL-URL:https://swcap.org
X-WR-CALDESC:Events for SWCAP
REFRESH-INTERVAL;VALUE=DURATION:PT1H
X-Robots-Tag:noindex
X-PUBLISHED-TTL:PT1H
BEGIN:VTIMEZONE
TZID:America/Chicago
BEGIN:DAYLIGHT
TZOFFSETFROM:-0600
TZOFFSETTO:-0500
TZNAME:CDT
DTSTART:20220313T080000
END:DAYLIGHT
BEGIN:STANDARD
TZOFFSETFROM:-0500
TZOFFSETTO:-0600
TZNAME:CST
DTSTART:20221106T070000
END:STANDARD
BEGIN:DAYLIGHT
TZOFFSETFROM:-0600
TZOFFSETTO:-0500
TZNAME:CDT
DTSTART:20230312T080000
END:DAYLIGHT
BEGIN:STANDARD
TZOFFSETFROM:-0500
TZOFFSETTO:-0600
TZNAME:CST
DTSTART:20231105T070000
END:STANDARD
BEGIN:DAYLIGHT
TZOFFSETFROM:-0600
TZOFFSETTO:-0500
TZNAME:CDT
DTSTART:20240310T080000
END:DAYLIGHT
BEGIN:STANDARD
TZOFFSETFROM:-0500
TZOFFSETTO:-0600
TZNAME:CST
DTSTART:20241103T070000
END:STANDARD
END:VTIMEZONE
BEGIN:VEVENT
DTSTART;TZID=America/Chicago:20230925T173000
DTEND;TZID=America/Chicago:20230925T193000
DTSTAMP:20260422T020420
CREATED:20230526T201748Z
LAST-MODIFIED:20230918T200745Z
UID:2861-1695663000-1695670200@swcap.org
SUMMARY:COMET - Hosted by Southwest Health
DESCRIPTION:We all live in a vulnerable space at one time or another – and for one reason or another. COMET aims to change the trajectory of someone in that vulnerable space headed towards crisis back towards a place of wellness. A critical factor in changing someone’s trajectory is often another person who says or does something that offers support\, care\, or treatment and causes a positive change. \nIn the training\, you \n\nLearn a natural way to talk with a friend\, a neighbor\, or an acquaintance about difficult topics.\nLearn a conversational guide and the importance of being “the other person.”\nPractice the COMET intervening questions and plan how you will use COMET to have in conversations about another’s well-being.
URL:https://swcap.org/event/comet-hosted-by-southwest-health/
LOCATION:Southwest Health – Eastside Conference Room\, 1400 Eastside Rd\, Platteville\, WI\, 53818\, United States
CATEGORIES:FarmWell
ATTACH;FMTTYPE=image/png:https://swcap.org/wp-content/uploads/2022/09/COMET-Logo.png
ORGANIZER;CN="Shawn Monson%2C FarmWell Program Coordinator":MAILTO:s.monson@swcap.org
END:VEVENT
BEGIN:VEVENT
DTSTART;TZID=America/Chicago:20230822T170000
DTEND;TZID=America/Chicago:20230822T200000
DTSTAMP:20260422T020420
CREATED:20230526T203728Z
LAST-MODIFIED:20230526T203728Z
UID:2868-1692723600-1692734400@swcap.org
SUMMARY:safeTALK - Hosted by Southwest Health
DESCRIPTION:At a safeTALK workshop\, you will learn how to prevent suicide by recognizing signs\, engaging someone\, and connecting them to an intervention resource for further support. Two skilled trainers will guide you through the course\, and a community resource person will be on hand to support your safety and comfort. \nLink to more safeTALK information: https://www.livingworks.net/safetalk
URL:https://swcap.org/event/safetalk-hosted-by-southwest-health/
LOCATION:Southwest Health – Eastside Conference Room\, 1400 Eastside Rd\, Platteville\, WI\, 53818\, United States
CATEGORIES:FarmWell
ATTACH;FMTTYPE=image/png:https://swcap.org/wp-content/uploads/2022/09/safeTALK-without-background.png
ORGANIZER;CN="Shawn Monson%2C FarmWell Program Coordinator":MAILTO:s.monson@swcap.org
END:VEVENT
END:VCALENDAR