BEGIN:VCALENDAR
VERSION:2.0
PRODID:-//SWCAP - ECPv6.15.18//NONSGML v1.0//EN
CALSCALE:GREGORIAN
METHOD:PUBLISH
X-WR-CALNAME:SWCAP
X-ORIGINAL-URL:https://swcap.org
X-WR-CALDESC:Events for SWCAP
REFRESH-INTERVAL;VALUE=DURATION:PT1H
X-Robots-Tag:noindex
X-PUBLISHED-TTL:PT1H
BEGIN:VTIMEZONE
TZID:America/Chicago
BEGIN:DAYLIGHT
TZOFFSETFROM:-0600
TZOFFSETTO:-0500
TZNAME:CDT
DTSTART:20220313T080000
END:DAYLIGHT
BEGIN:STANDARD
TZOFFSETFROM:-0500
TZOFFSETTO:-0600
TZNAME:CST
DTSTART:20221106T070000
END:STANDARD
BEGIN:DAYLIGHT
TZOFFSETFROM:-0600
TZOFFSETTO:-0500
TZNAME:CDT
DTSTART:20230312T080000
END:DAYLIGHT
BEGIN:STANDARD
TZOFFSETFROM:-0500
TZOFFSETTO:-0600
TZNAME:CST
DTSTART:20231105T070000
END:STANDARD
BEGIN:DAYLIGHT
TZOFFSETFROM:-0600
TZOFFSETTO:-0500
TZNAME:CDT
DTSTART:20240310T080000
END:DAYLIGHT
BEGIN:STANDARD
TZOFFSETFROM:-0500
TZOFFSETTO:-0600
TZNAME:CST
DTSTART:20241103T070000
END:STANDARD
END:VTIMEZONE
BEGIN:VEVENT
DTSTART;TZID=America/Chicago:20230119T180000
DTEND;TZID=America/Chicago:20230119T200000
DTSTAMP:20260422T034534
CREATED:20221205T174028Z
LAST-MODIFIED:20221205T174028Z
UID:2429-1674151200-1674158400@swcap.org
SUMMARY:COMET sponsored by the Monticello Public Library
DESCRIPTION:We all live in a vulnerable space at one time or another – and for one reason or another. COMET aims to change the trajectory of someone in that vulnerable space headed towards crisis back towards a place of wellness. A critical factor in changing someone’s trajectory is often another person who says or does something that offers support\, care\, or treatment and causes a positive change. \nIn the training\, you \n\nLearn a natural way to talk with a friend\, a neighbor\, or an acquaintance about difficult topics.\nLearn a conversational guide and the importance of being “the other person.”\nPractice the COMET intervening questions\, and plan how you will use COMET to have conversations about another’s well-being.\n\nIn-Person – Monticello Public Library – No fee. \nPre-registration is required – https://docs.google.com/forms/d/11rqDpSz9yY_6ELOGLZLWL93UivnKEr2QKWbiuH517Ng/prefill
URL:https://swcap.org/event/comet-sponsored-by-the-monticello-public-library/
LOCATION:Monticello Public Library\, 512 E Lake Ave.\, Monticello\, 53570
CATEGORIES:FarmWell
ORGANIZER;CN="Shawn Monson%2C FarmWell Program Coordinator":MAILTO:s.monson@swcap.org
END:VEVENT
END:VCALENDAR