BEGIN:VCALENDAR
VERSION:2.0
PRODID:-//SWCAP - ECPv6.15.18//NONSGML v1.0//EN
CALSCALE:GREGORIAN
METHOD:PUBLISH
X-WR-CALNAME:SWCAP
X-ORIGINAL-URL:https://swcap.org
X-WR-CALDESC:Events for SWCAP
REFRESH-INTERVAL;VALUE=DURATION:PT1H
X-Robots-Tag:noindex
X-PUBLISHED-TTL:PT1H
BEGIN:VTIMEZONE
TZID:America/Chicago
BEGIN:DAYLIGHT
TZOFFSETFROM:-0600
TZOFFSETTO:-0500
TZNAME:CDT
DTSTART:20210314T080000
END:DAYLIGHT
BEGIN:STANDARD
TZOFFSETFROM:-0500
TZOFFSETTO:-0600
TZNAME:CST
DTSTART:20211107T070000
END:STANDARD
BEGIN:DAYLIGHT
TZOFFSETFROM:-0600
TZOFFSETTO:-0500
TZNAME:CDT
DTSTART:20220313T080000
END:DAYLIGHT
BEGIN:STANDARD
TZOFFSETFROM:-0500
TZOFFSETTO:-0600
TZNAME:CST
DTSTART:20221106T070000
END:STANDARD
BEGIN:DAYLIGHT
TZOFFSETFROM:-0600
TZOFFSETTO:-0500
TZNAME:CDT
DTSTART:20230312T080000
END:DAYLIGHT
BEGIN:STANDARD
TZOFFSETFROM:-0500
TZOFFSETTO:-0600
TZNAME:CST
DTSTART:20231105T070000
END:STANDARD
BEGIN:DAYLIGHT
TZOFFSETFROM:-0600
TZOFFSETTO:-0500
TZNAME:CDT
DTSTART:20240310T080000
END:DAYLIGHT
BEGIN:STANDARD
TZOFFSETFROM:-0500
TZOFFSETTO:-0600
TZNAME:CST
DTSTART:20241103T070000
END:STANDARD
END:VTIMEZONE
BEGIN:VEVENT
DTSTART;TZID=America/Chicago:20230213T080000
DTEND;TZID=America/Chicago:20230213T120000
DTSTAMP:20260422T032801
CREATED:20221013T132413Z
LAST-MODIFIED:20230119T205054Z
UID:2255-1676275200-1676289600@swcap.org
SUMMARY:safeTalk sponsored by the Memorial Hospital of Lafayette County
DESCRIPTION:At a safeTALK workshop\, you’ll learn how to prevent suicide by recognizing the signs of someone struggling with thoughts of suicide\, learn to engage them so they tell their story\, and identify resources to connect them to for further support. \nThis workshop is appropriate for any community member 15 years of age or older no matter their level of prior familiarity or training in community-based mental health support.
URL:https://swcap.org/event/safetalk-sponsored-by-memorial-hospital-of-lafayette-county/
LOCATION:Lafayette County multi-Use Building\, 11974 Ames Road\, Darlington\, WI\, 53530\, United States
CATEGORIES:FarmWell
ORGANIZER;CN="Shawn Monson%2C FarmWell Program Coordinator":MAILTO:s.monson@swcap.org
END:VEVENT
BEGIN:VEVENT
DTSTART;TZID=America/Chicago:20221108T150000
DTEND;TZID=America/Chicago:20221108T170000
DTSTAMP:20260422T032801
CREATED:20221013T130332Z
LAST-MODIFIED:20221026T174607Z
UID:2247-1667919600-1667926800@swcap.org
SUMMARY:COMET Training
DESCRIPTION:We all live in a vulnerable space at one time or another – and for one reason or another. COMET aims to change the trajectory of someone in that vulnerable space headed towards crisis back towards a place of wellness. A critical factor in changing someone’s trajectory is often another person who says or does something that offers support\, care\, or treatment and causes a positive change. \nIn the training\, you \n\nLearn a natural way to talk with a friend\, a neighbor\, or an acquaintance about difficult topics.\nLearn a conversational guide and the importance of being “the other person.”\nPractice the COMET intervening questions and plan how you will use COMET to have in conversations about another’s well-being.\n\nCoordinator: Shawn Monson\, s.monson@swcap.org.
URL:https://swcap.org/event/comet-training/
LOCATION:Lafayette County multi-Use Building\, 11974 Ames Road\, Darlington\, WI\, 53530\, United States
CATEGORIES:FarmWell
END:VEVENT
END:VCALENDAR