BEGIN:VCALENDAR
VERSION:2.0
PRODID:-//SWCAP - ECPv6.15.18//NONSGML v1.0//EN
CALSCALE:GREGORIAN
METHOD:PUBLISH
X-WR-CALNAME:SWCAP
X-ORIGINAL-URL:https://swcap.org
X-WR-CALDESC:Events for SWCAP
REFRESH-INTERVAL;VALUE=DURATION:PT1H
X-Robots-Tag:noindex
X-PUBLISHED-TTL:PT1H
BEGIN:VTIMEZONE
TZID:America/Chicago
BEGIN:DAYLIGHT
TZOFFSETFROM:-0600
TZOFFSETTO:-0500
TZNAME:CDT
DTSTART:20220313T080000
END:DAYLIGHT
BEGIN:STANDARD
TZOFFSETFROM:-0500
TZOFFSETTO:-0600
TZNAME:CST
DTSTART:20221106T070000
END:STANDARD
BEGIN:DAYLIGHT
TZOFFSETFROM:-0600
TZOFFSETTO:-0500
TZNAME:CDT
DTSTART:20230312T080000
END:DAYLIGHT
BEGIN:STANDARD
TZOFFSETFROM:-0500
TZOFFSETTO:-0600
TZNAME:CST
DTSTART:20231105T070000
END:STANDARD
BEGIN:DAYLIGHT
TZOFFSETFROM:-0600
TZOFFSETTO:-0500
TZNAME:CDT
DTSTART:20240310T080000
END:DAYLIGHT
BEGIN:STANDARD
TZOFFSETFROM:-0500
TZOFFSETTO:-0600
TZNAME:CST
DTSTART:20241103T070000
END:STANDARD
END:VTIMEZONE
BEGIN:VEVENT
DTSTART;TZID=America/Chicago:20230516T173000
DTEND;TZID=America/Chicago:20230516T193000
DTSTAMP:20260422T033352
CREATED:20230422T201912Z
LAST-MODIFIED:20230520T151217Z
UID:2718-1684258200-1684265400@swcap.org
SUMMARY:COMET - Sponsored & Hosted by the Grant Regional Health Center
DESCRIPTION:We all live in a vulnerable space at one time or another – and for one reason or another. COMET aims to change the trajectory of someone in that vulnerable space headed towards crisis back towards a place of wellness. A critical factor in changing someone’s trajectory is often another person who says or does something that offers support\, care\, or treatment and causes a positive change. \nIn the training\, you \n\nLearn a natural way to talk with a friend\, a neighbor\, or an acquaintance about difficult topics.\nLearn a conversational guide and the importance of being “the other person.”\nPractice the COMET intervening questions and plan how you will use COMET to have in conversations about another’s well-being.
URL:https://swcap.org/event/comet-sponsored-hosted-by-the-grant-regional-health-center/
LOCATION:Grant Regional Health Center’s Education Center\, 507 S Monroe St\, Lancaster\, 53813
CATEGORIES:FarmWell
ATTACH;FMTTYPE=image/png:https://swcap.org/wp-content/uploads/2022/09/COMET-Logo.png
ORGANIZER;CN="Shawn Monson%2C FarmWell Program Coordinator":MAILTO:s.monson@swcap.org
END:VEVENT
END:VCALENDAR