BEGIN:VCALENDAR
VERSION:2.0
PRODID:-//SWCAP - ECPv6.15.18//NONSGML v1.0//EN
CALSCALE:GREGORIAN
METHOD:PUBLISH
X-ORIGINAL-URL:https://swcap.org
X-WR-CALDESC:Events for SWCAP
REFRESH-INTERVAL;VALUE=DURATION:PT1H
X-Robots-Tag:noindex
X-PUBLISHED-TTL:PT1H
BEGIN:VTIMEZONE
TZID:America/Chicago
BEGIN:DAYLIGHT
TZOFFSETFROM:-0600
TZOFFSETTO:-0500
TZNAME:CDT
DTSTART:20210314T080000
END:DAYLIGHT
BEGIN:STANDARD
TZOFFSETFROM:-0500
TZOFFSETTO:-0600
TZNAME:CST
DTSTART:20211107T070000
END:STANDARD
BEGIN:DAYLIGHT
TZOFFSETFROM:-0600
TZOFFSETTO:-0500
TZNAME:CDT
DTSTART:20220313T080000
END:DAYLIGHT
BEGIN:STANDARD
TZOFFSETFROM:-0500
TZOFFSETTO:-0600
TZNAME:CST
DTSTART:20221106T070000
END:STANDARD
BEGIN:DAYLIGHT
TZOFFSETFROM:-0600
TZOFFSETTO:-0500
TZNAME:CDT
DTSTART:20230312T080000
END:DAYLIGHT
BEGIN:STANDARD
TZOFFSETFROM:-0500
TZOFFSETTO:-0600
TZNAME:CST
DTSTART:20231105T070000
END:STANDARD
BEGIN:DAYLIGHT
TZOFFSETFROM:-0600
TZOFFSETTO:-0500
TZNAME:CDT
DTSTART:20240310T080000
END:DAYLIGHT
BEGIN:STANDARD
TZOFFSETFROM:-0500
TZOFFSETTO:-0600
TZNAME:CST
DTSTART:20241103T070000
END:STANDARD
END:VTIMEZONE
BEGIN:VEVENT
DTSTART;TZID=America/Chicago:20230328T084500
DTEND;TZID=America/Chicago:20230328T121500
DTSTAMP:20260422T050546
CREATED:20230308T210650Z
LAST-MODIFIED:20230308T232822Z
UID:2659-1679993100-1680005700@swcap.org
SUMMARY:safeTALK at Grace Lutheran Church (Dodgeville)
DESCRIPTION:At a safeTALK workshop\, you’ll learn how to prevent suicide by recognizing the signs of someone struggling with thoughts of suicide\, learn to engage them so they tell their story\, and identify resources to connect them to for further support. \nAdvance Fee Required? No. FREE. \nPre-Registration Required? YES \nContact Event Coordinator Shawn Monson at s.monson@swcap.org and/or (608) 553-0095 with questions. \n 
URL:https://swcap.org/event/safetalk-at-grace-lutheran-church-dodgeville/
LOCATION:Dodgeville Grace Lutheran Church\, 1105 N Bequette St\, Dodgeville\, WI\, 53533\, United States
CATEGORIES:FarmWell
END:VEVENT
BEGIN:VEVENT
DTSTART;TZID=America/Chicago:20221007T113000
DTEND;TZID=America/Chicago:20221007T130000
DTSTAMP:20260422T050546
CREATED:20220913T151610Z
LAST-MODIFIED:20220913T151610Z
UID:2203-1665142200-1665147600@swcap.org
SUMMARY:The Water We Swim In (WWSI) Zoom
DESCRIPTION:The Water We Swim In: Sharing Stories and Unpacking Culture series aims to reweave rural communities where neighbors help neighbors and everyone has the support they need to thrive and flourish. It’s our hope these monthly opportunities to hear real stories from our region will spark curiosity and increase our capacity to be responsive to each other as we build resilient and healing communities.
URL:https://swcap.org/event/the-water-we-swim-in-wwsi-zoom/
LOCATION:Virtual Event (Zoom)\, WI\, United States
CATEGORIES:FarmWell
END:VEVENT
END:VCALENDAR