BEGIN:VCALENDAR
VERSION:2.0
PRODID:-//SWCAP - ECPv6.15.18//NONSGML v1.0//EN
CALSCALE:GREGORIAN
METHOD:PUBLISH
X-WR-CALNAME:SWCAP
X-ORIGINAL-URL:https://swcap.org
X-WR-CALDESC:Events for SWCAP
REFRESH-INTERVAL;VALUE=DURATION:PT1H
X-Robots-Tag:noindex
X-PUBLISHED-TTL:PT1H
BEGIN:VTIMEZONE
TZID:America/Chicago
BEGIN:DAYLIGHT
TZOFFSETFROM:-0600
TZOFFSETTO:-0500
TZNAME:CDT
DTSTART:20220313T080000
END:DAYLIGHT
BEGIN:STANDARD
TZOFFSETFROM:-0500
TZOFFSETTO:-0600
TZNAME:CST
DTSTART:20221106T070000
END:STANDARD
BEGIN:DAYLIGHT
TZOFFSETFROM:-0600
TZOFFSETTO:-0500
TZNAME:CDT
DTSTART:20230312T080000
END:DAYLIGHT
BEGIN:STANDARD
TZOFFSETFROM:-0500
TZOFFSETTO:-0600
TZNAME:CST
DTSTART:20231105T070000
END:STANDARD
BEGIN:DAYLIGHT
TZOFFSETFROM:-0600
TZOFFSETTO:-0500
TZNAME:CDT
DTSTART:20240310T080000
END:DAYLIGHT
BEGIN:STANDARD
TZOFFSETFROM:-0500
TZOFFSETTO:-0600
TZNAME:CST
DTSTART:20241103T070000
END:STANDARD
END:VTIMEZONE
BEGIN:VEVENT
DTSTART;TZID=America/Chicago:20230602T113000
DTEND;TZID=America/Chicago:20230602T133000
DTSTAMP:20260421T225911
CREATED:20230427T193049Z
LAST-MODIFIED:20230605T220930Z
UID:2734-1685705400-1685712600@swcap.org
SUMMARY:The Water We Swim In
DESCRIPTION:The Water We Swim In: Sharing Stories and Unpacking Culture – This series aims to reweave rural communities where neighbors help neighbors\, and everyone has the support they need to thrive and flourish. It’s our hope these seasonal opportunities to hear real stories from our region will spark curiosity and increase our capacity to be responsive to each other as we build resilient and healing communities. \nZoom Link: Join Zoom Meeting \nhttps://southwesthealth.zoom.us/j/83048799535 \nMeeting ID: 830 4879 9535\nOne tap mobile\n+19292056099\,\,83048799535# US (New York)\n+13017158592\,\,83048799535# US (Washington DC) \nDial by your location\n        +1 929 205 6099 US (New York)\n        +1 301 715 8592 US (Washington DC)\n        +1 305 224 1968 US\n        +1 309 205 3325 US\n        +1 312 626 6799 US (Chicago)\n        +1 646 931 3860 US\n        +1 346 248 7799 US (Houston)\n        +1 360 209 5623 US\n        +1 386 347 5053 US\n        +1 507 473 4847 US\n        +1 564 217 2000 US\n        +1 669 444 9171 US\n        +1 669 900 6833 US (San Jose)\n        +1 689 278 1000 US\n        +1 719 359 4580 US\n        +1 253 205 0468 US\n        +1 253 215 8782 US (Tacoma)\nMeeting ID: 830 4879 9535\nFind your local number: https://southwesthealth.zoom.us/u/kNBFAI4j6 
URL:https://swcap.org/event/the-water-we-swim-in-2/2023-06-02/
LOCATION:Virtual Event (Zoom)\, WI\, United States
CATEGORIES:FarmWell
ATTACH;FMTTYPE=image/png:https://swcap.org/wp-content/uploads/2023/04/the-water-we-swim-in-e1682202913166.png
ORGANIZER;CN="Shawn Monson%2C FarmWell Program Coordinator":MAILTO:s.monson@swcap.org
END:VEVENT
END:VCALENDAR