BEGIN:VCALENDAR
VERSION:2.0
PRODID:-//SWCAP - ECPv6.15.18//NONSGML v1.0//EN
CALSCALE:GREGORIAN
METHOD:PUBLISH
X-WR-CALNAME:SWCAP
X-ORIGINAL-URL:https://swcap.org
X-WR-CALDESC:Events for SWCAP
REFRESH-INTERVAL;VALUE=DURATION:PT1H
X-Robots-Tag:noindex
X-PUBLISHED-TTL:PT1H
BEGIN:VTIMEZONE
TZID:America/Chicago
BEGIN:DAYLIGHT
TZOFFSETFROM:-0600
TZOFFSETTO:-0500
TZNAME:CDT
DTSTART:20220313T080000
END:DAYLIGHT
BEGIN:STANDARD
TZOFFSETFROM:-0500
TZOFFSETTO:-0600
TZNAME:CST
DTSTART:20221106T070000
END:STANDARD
BEGIN:DAYLIGHT
TZOFFSETFROM:-0600
TZOFFSETTO:-0500
TZNAME:CDT
DTSTART:20230312T080000
END:DAYLIGHT
BEGIN:STANDARD
TZOFFSETFROM:-0500
TZOFFSETTO:-0600
TZNAME:CST
DTSTART:20231105T070000
END:STANDARD
BEGIN:DAYLIGHT
TZOFFSETFROM:-0600
TZOFFSETTO:-0500
TZNAME:CDT
DTSTART:20240310T080000
END:DAYLIGHT
BEGIN:STANDARD
TZOFFSETFROM:-0500
TZOFFSETTO:-0600
TZNAME:CST
DTSTART:20241103T070000
END:STANDARD
END:VTIMEZONE
BEGIN:VEVENT
DTSTART;TZID=America/Chicago:20230615T090000
DTEND;TZID=America/Chicago:20230615T101500
DTSTAMP:20260422T003639
CREATED:20230527T154506Z
LAST-MODIFIED:20230527T154506Z
UID:2966-1686819600-1686824100@swcap.org
SUMMARY:StrongBodies Healthy Eating & Active Living - Extension - University of Wisconsin-Madison
DESCRIPTION:Strong Bodies is an evidence-based weight-training program for middle- and older-aged adults proven to support overall health and wellness\, flexibility and strength to improve people’s capacity to do everyday activities\, including balance\, getting up from a chair or the floor\, reaching and carrying items. \nFREE – Pre-registration is asked. \nhttps://docs.google.com/forms/d/e/1FAIpQLSf4dM1Y4_2Ak6Tpqai63o3iqJsk91T_Ph78-hOAut5CndKmwg/viewform
URL:https://swcap.org/event/strongbodies-healthy-eating-active-living-extension-university-of-wisconsin-madison-2/2023-06-15/
LOCATION:Shullsburg City Building Community Room\, 190 North Judgement Street\, Shullsburg\, WI\, 53586\, United States
CATEGORIES:FarmWell
ORGANIZER;CN="Shawn Monson%2C FarmWell Program Coordinator":MAILTO:s.monson@swcap.org
END:VEVENT
END:VCALENDAR